BEGIN:VCALENDAR
VERSION:2.0
PRODID:-//Han&#039;s US Tae Kwon Do Center - ECPv6.13.2.1//NONSGML v1.0//EN
CALSCALE:GREGORIAN
METHOD:PUBLISH
X-ORIGINAL-URL:http://hansustaekwondo.com
X-WR-CALDESC:Events for Han&#039;s US Tae Kwon Do Center
REFRESH-INTERVAL;VALUE=DURATION:PT1H
X-Robots-Tag:noindex
X-PUBLISHED-TTL:PT1H
BEGIN:VTIMEZONE
TZID:America/New_York
BEGIN:DAYLIGHT
TZOFFSETFROM:-0500
TZOFFSETTO:-0400
TZNAME:EDT
DTSTART:20170312T070000
END:DAYLIGHT
BEGIN:STANDARD
TZOFFSETFROM:-0400
TZOFFSETTO:-0500
TZNAME:EST
DTSTART:20171105T060000
END:STANDARD
BEGIN:DAYLIGHT
TZOFFSETFROM:-0500
TZOFFSETTO:-0400
TZNAME:EDT
DTSTART:20180311T070000
END:DAYLIGHT
BEGIN:STANDARD
TZOFFSETFROM:-0400
TZOFFSETTO:-0500
TZNAME:EST
DTSTART:20181104T060000
END:STANDARD
END:VTIMEZONE
BEGIN:VEVENT
DTSTART;VALUE=DATE:20180526
DTEND;VALUE=DATE:20180529
DTSTAMP:20260423T133944
CREATED:20180512T142218Z
LAST-MODIFIED:20180512T142218Z
UID:611-1527292800-1527551999@hansustaekwondo.com
SUMMARY:CLOSED Saturday May 26 and Monday May 28th
DESCRIPTION:We will be CLOSED Saturday May 26th and Monday May 28th for Memorial Day weekend.
URL:http://hansustaekwondo.com/event/closed-saturday-may-26-and-monday-may-28th/
END:VEVENT
BEGIN:VEVENT
DTSTART;TZID=America/New_York:20180519T100000
DTEND;TZID=America/New_York:20180519T180000
DTSTAMP:20260423T133944
CREATED:20180512T142043Z
LAST-MODIFIED:20180512T142043Z
UID:609-1526724000-1526752800@hansustaekwondo.com
SUMMARY:NO CLASSES Saturday May 19\, 2018
DESCRIPTION:We will be CLOSED Saturday May 19th for Dragon Champion Taekwondo Academy’s black belt testing at Hilton Charlotte University Place  8629 J M Keynes Dr\, Charlotte\, NC 28262  at 10:00 am.  Everyone is invited to go and watch. \nAlso\, Han’s and Dragon’s demonstration team will be performing at the Charlotte Dragon Boat and Asian Festival at Ramsey Creek Park on Lake Norman.  Everyone is invited to go and watch.
URL:http://hansustaekwondo.com/event/no-classes-saturday-may-19-2018/
END:VEVENT
BEGIN:VEVENT
DTSTART;TZID=America/New_York:20180517T163000
DTEND;TZID=America/New_York:20180517T200000
DTSTAMP:20260423T133944
CREATED:20180512T141202Z
LAST-MODIFIED:20180512T141230Z
UID:606-1526574600-1526587200@hansustaekwondo.com
SUMMARY:NO CLASSES Thursday May 17th  COLOR BELT TESTING
DESCRIPTION:This is for students who have received and turned in their testing paper and fee.
URL:http://hansustaekwondo.com/event/no-classes-thursday-may-17th-color-belt-testing/
LOCATION:Han’s US Tae Kwon Do\, 6225 Blakeney Park Drive\, Charlotte\, NC\, 28277\, United States
END:VEVENT
BEGIN:VEVENT
DTSTART;TZID=America/New_York:20180511T183000
DTEND;TZID=America/New_York:20180511T220000
DTSTAMP:20260423T133944
CREATED:20180430T221436Z
LAST-MODIFIED:20180430T221540Z
UID:594-1526063400-1526076000@hansustaekwondo.com
SUMMARY:MOTHER'S DAY SPECIAL PARENTS NIGHT OUT Friday May 11\, 2018
DESCRIPTION:For more information or to sign up\, please contact the office.  704-752-9400 or email hans.taekwondo@hotmail.com.
URL:http://hansustaekwondo.com/event/mothers-day-special-parents-night-friday-may-11-2018/
LOCATION:Han’s US Tae Kwon Do\, 6225 Blakeney Park Drive\, Charlotte\, NC\, 28277\, United States
END:VEVENT
BEGIN:VEVENT
DTSTART;TZID=America/New_York:20180420T163000
DTEND;TZID=America/New_York:20180420T190000
DTSTAMP:20260423T133944
CREATED:20180413T210317Z
LAST-MODIFIED:20180413T210317Z
UID:588-1524241800-1524250800@hansustaekwondo.com
SUMMARY:NO CLASSES Friday April 20\, 2018 COLOR BELT TESTING
DESCRIPTION:
URL:http://hansustaekwondo.com/event/no-classes-friday-april-20-2018-color-belt-testing/
END:VEVENT
BEGIN:VEVENT
DTSTART;VALUE=DATE:20180330
DTEND;VALUE=DATE:20180403
DTSTAMP:20260423T133944
CREATED:20180205T214845Z
LAST-MODIFIED:20180205T215218Z
UID:558-1522368000-1522713599@hansustaekwondo.com
SUMMARY:CLOSED EASTER WEEKEND Mar. 30\, 31\, & Apr. 2
DESCRIPTION:We will be closed Friday March 30th (Good Friday)\, Saturday March 31st\, and Monday April 2nd (Easter Monday). \nWe hope you all have a Happy Easter and enjoy your time with your family and friends!
URL:http://hansustaekwondo.com/event/closed-easter-weekend-mar-30-31-apr-2/
END:VEVENT
BEGIN:VEVENT
DTSTART;TZID=America/New_York:20180324T123000
DTEND;TZID=America/New_York:20180324T140000
DTSTAMP:20260423T133944
CREATED:20180317T160425Z
LAST-MODIFIED:20180317T160425Z
UID:570-1521894600-1521900000@hansustaekwondo.com
SUMMARY:Women's Self Defense Workshop  Sat. March 24th
DESCRIPTION:$20 for you AND a friend!  This is a great mother/daughter activity! \nSpecial Instructor:  Grand Master Yum \nFor more information\, please contact our office at 704-752-9400 or email: hans.taekwondo@hotmail.com
URL:http://hansustaekwondo.com/event/womens-self-defense-workshop-sat-march-24th/
LOCATION:Han’s US Tae Kwon Do\, 6225 Blakeney Park Drive\, Charlotte\, NC\, 28277\, United States
END:VEVENT
BEGIN:VEVENT
DTSTART;VALUE=DATE:20180324
DTEND;VALUE=DATE:20180325
DTSTAMP:20260423T133944
CREATED:20180324T133934Z
LAST-MODIFIED:20180324T134038Z
UID:576-1521849600-1521935999@hansustaekwondo.com
SUMMARY:CANCELED Women's Self Defense Class
DESCRIPTION:We are sorry to announce the cancellation of the Women’s Self Defense class for Saturday March 24th. \nWe will reschedule this for a future date.  Please keep checking back! \n  \n 
URL:http://hansustaekwondo.com/event/canceled-womens-self-defense-class/
END:VEVENT
BEGIN:VEVENT
DTSTART;TZID=America/New_York:20180322T163000
DTEND;TZID=America/New_York:20180322T200000
DTSTAMP:20260423T133944
CREATED:20180319T210751Z
LAST-MODIFIED:20180319T210751Z
UID:573-1521736200-1521748800@hansustaekwondo.com
SUMMARY:Color Belt Testing Thursday March 22\, 2018
DESCRIPTION:NO regular classes due to color belt testing.  This is for students who have received and turned in their testing forms and fees.
URL:http://hansustaekwondo.com/event/color-belt-testing-thursday-march-22-2018/
END:VEVENT
BEGIN:VEVENT
DTSTART;TZID=America/New_York:20180316T183000
DTEND;TZID=America/New_York:20180316T213000
DTSTAMP:20260423T133944
CREATED:20180226T230653Z
LAST-MODIFIED:20180226T230654Z
UID:563-1521225000-1521235800@hansustaekwondo.com
SUMMARY:NERF NIGHT  Friday March 16\, 2018
DESCRIPTION:This is a FUN event for the kids or the family! \nStop in for more information or to sign your child up! \n 
URL:http://hansustaekwondo.com/event/nerf-night-friday-march-16-2018/
LOCATION:Han’s US Tae Kwon Do\, 6225 Blakeney Park Drive\, Charlotte\, NC\, 28277\, United States
END:VEVENT
BEGIN:VEVENT
DTSTART;TZID=America/New_York:20180312T160000
DTEND;TZID=America/New_York:20180312T203000
DTSTAMP:20260423T133944
CREATED:20180205T205508Z
LAST-MODIFIED:20180205T205508Z
UID:556-1520870400-1520886600@hansustaekwondo.com
SUMMARY:PICTURE DAY   Monday March 12\, 2018
DESCRIPTION:Students and parents\, please stop in and sign up for a time slot for TKD pictures!!!!! \nAny questions\, please contact the office manager.
URL:http://hansustaekwondo.com/event/picture-day-monday-march-12-2018/
END:VEVENT
BEGIN:VEVENT
DTSTART;TZID=America/New_York:20180223T163000
DTEND;TZID=America/New_York:20180223T193000
DTSTAMP:20260423T133944
CREATED:20180205T204904Z
LAST-MODIFIED:20180205T204940Z
UID:554-1519403400-1519414200@hansustaekwondo.com
SUMMARY:NO REGULAR CLASSES - Color Belt Testing Friday Feb. 23\, 2018
DESCRIPTION:NO REGULAR CLASSES on Friday February 23\, 2018 due to color belt testing. \nGroup 1: 4:30 pm \nGroup 2: 6:00 pm \nThis is for students who have received and turned in testing papers and fees. \nPlease wear FULL uniform (no t-shirts). \nArrive 15 minutes before assigned testing group. \nBring family and friends! \nGOOD LUCK!!!
URL:http://hansustaekwondo.com/event/no-regular-classes-color-belt-testing-friday-feb-23-2018/
END:VEVENT
BEGIN:VEVENT
DTSTART;TZID=America/New_York:20180205T080000
DTEND;TZID=America/New_York:20180205T170000
DTSTAMP:20260423T133944
CREATED:20180205T215436Z
LAST-MODIFIED:20180205T215436Z
UID:560-1517817600-1517850000@hansustaekwondo.com
SUMMARY:NO REGULAR CLASSES - Color Belt Testing Thursday March 22\, 2018
DESCRIPTION:NO REGULAR CLASSES on Thursday March 22\, 2018 due to color belt testing. \nGroup 1: 4:30 pm \nGroup 2: 6:00 pm \nThis is for students who have received and turned in testing papers and fees. \nPlease wear FULL uniform (no t-shirts). \nArrive 15 minutes before assigned testing group. \nBring family and friends! \nGOOD LUCK!!!
URL:http://hansustaekwondo.com/event/no-regular-classes-color-belt-testing-thursday-march-22-2018/
END:VEVENT
BEGIN:VEVENT
DTSTART;TZID=America/New_York:20180125T163000
DTEND;TZID=America/New_York:20180125T203000
DTSTAMP:20260423T133944
CREATED:20180110T230659Z
LAST-MODIFIED:20180110T230659Z
UID:549-1516897800-1516912200@hansustaekwondo.com
SUMMARY:COLOR BELT TESTING Thursday Jan. 25\, 2018
DESCRIPTION:NO REGULAR CLASSES on Thursday January 25\, 2018 due to color belt testing. \nGroup 1: 4:30 pm \nGroup 2: 6:00 pm \nThis is for students who have received and turned in testing papers and fees. \nPlease wear FULL uniform (no t-shirts). \nArrive 15 minutes before assigned testing group. \nBring family and friends! \nGOOD LUCK!!!
URL:http://hansustaekwondo.com/event/color-belt-testing-thursday-jan-25-2018/
END:VEVENT
BEGIN:VEVENT
DTSTART;VALUE=DATE:20180115
DTEND;VALUE=DATE:20180116
DTSTAMP:20260423T133944
CREATED:20180110T225815Z
LAST-MODIFIED:20180110T230722Z
UID:546-1515974400-1516060799@hansustaekwondo.com
SUMMARY:CLOSED Monday January 15\, 2018
DESCRIPTION:
URL:http://hansustaekwondo.com/event/closed-monday-january-15-2018/
END:VEVENT
BEGIN:VEVENT
DTSTART;VALUE=DATE:20171225
DTEND;VALUE=DATE:20180102
DTSTAMP:20260423T133944
CREATED:20171219T223248Z
LAST-MODIFIED:20171219T223248Z
UID:536-1514160000-1514851199@hansustaekwondo.com
SUMMARY:Christmas Week Schedule  CLOSED Dec. 25\, 2017 - Jan. 1\, 2018
DESCRIPTION:We wish everyone a very Merry Christmas and a Happy\, Healthy New Year!!! \nWe will be closed December 25\, 2017 through January 1\, 2018. \nWe will be open Tuesday\, January 2\, 2018 for classes.
URL:http://hansustaekwondo.com/event/christmas-week-schedule-closed-dec-25-2017-jan-1-2018/
END:VEVENT
BEGIN:VEVENT
DTSTART;TZID=America/New_York:20171208T080000
DTEND;TZID=America/New_York:20171208T170000
DTSTAMP:20260423T133944
CREATED:20171208T234249Z
LAST-MODIFIED:20171208T234249Z
UID:532-1512720000-1512752400@hansustaekwondo.com
SUMMARY:CLOSED Saturday Dec. 9th due to weather
DESCRIPTION:With the predicting weather for Saturday\, we will be CLOSED!  We apologize for the inconvenience!  Our main focus is the safety of our staff\, students\, and families. \nThank you for your understanding.
URL:http://hansustaekwondo.com/event/closed-saturday-dec-9th-due-weather/
END:VEVENT
BEGIN:VEVENT
DTSTART;VALUE=DATE:20171122
DTEND;VALUE=DATE:20171126
DTSTAMP:20260423T133944
CREATED:20171117T220748Z
LAST-MODIFIED:20171117T220748Z
UID:524-1511308800-1511654399@hansustaekwondo.com
SUMMARY:Thanksgiving 2017 NO CLASSES Nov. 22\, 23\, 24\, & 25
DESCRIPTION:We will have regular scheduled classes on Monday (Nov. 20) and Tuesday (Nov. 21).  We will be closed the following days for Thanksgiving holiday\, Wednesday\, Thursday\, Friday\, and Saturday (Nov. 22\, 23\, 24\, & 25). \n \n 
URL:http://hansustaekwondo.com/event/thanksgiving-2017-no-classes-nov-22-23-24-25/
END:VEVENT
BEGIN:VEVENT
DTSTART;TZID=America/New_York:20171118T100000
DTEND;TZID=America/New_York:20171118T123000
DTSTAMP:20260423T133944
CREATED:20171023T220557Z
LAST-MODIFIED:20171117T220919Z
UID:517-1510999200-1511008200@hansustaekwondo.com
SUMMARY:Black Belt Testing November 18\, 2017
DESCRIPTION:No regular classes.  Everyone is welcome to come and watch out students testing for their black belts!
URL:http://hansustaekwondo.com/event/black-belt-testing-november-18-2017/
LOCATION:Han’s US Tae Kwon Do\, 6225 Blakeney Park Drive\, Charlotte\, NC\, 28277\, United States
END:VEVENT
BEGIN:VEVENT
DTSTART;VALUE=DATE:20171111
DTEND;VALUE=DATE:20171112
DTSTAMP:20260423T133944
CREATED:20171107T232024Z
LAST-MODIFIED:20171107T232024Z
UID:520-1510358400-1510444799@hansustaekwondo.com
SUMMARY:NO CLASSES Saturday Nov. 11\, 2017
DESCRIPTION:There are NO CLASSES Saturday November 11\, 2017 due to staff and many students participating in the 2017 Ha Tae Kyung Taekwondo Championship. \nGOOD LUCK to our students and safe travels! \nThe tournament will be held at Peachtree Ridge High School 1555 Old Peachtree Rd. Suwanee\, GA 30024 \n9:00 am – 11:30 am Wave 1 (Age 15 – 17\, Age 18 – 32\, Age 33 & up) \n11:30 am – 1:00 pm Opening Ceremony & Demonstration Team Competition followed by Lunch Break \n1:00 pm – 3:30 pm Wave 2 (Age 4 – 5\, Age 6 – 7\, Age 8 – 9) \n3:30 pm – 6:30 pm Wave 3 (Age 10 -11\, Age 12 – 14) \nAll times are approximate!! \nAddmission:  $15 (children 5 & under are FREE)
URL:http://hansustaekwondo.com/event/no-classes-saturday-nov-11-2017/
END:VEVENT
BEGIN:VEVENT
DTSTART;VALUE=DATE:20171111
DTEND;VALUE=DATE:20171112
DTSTAMP:20260423T133944
CREATED:20171023T215917Z
LAST-MODIFIED:20171023T215917Z
UID:514-1510358400-1510444799@hansustaekwondo.com
SUMMARY:2017 HA TAE KYUNG TAEKWONDO CHAMPIONSHIP
DESCRIPTION:Tournament events:  Poomse\, Board Breaking\, Sparring \nEveryone is encouraged to participate! \nFor more information\, please speak with Master Lee or stop by the front desk.
URL:http://hansustaekwondo.com/event/2017-ha-tae-kyung-taekwondo-championship/
LOCATION:Peachtree Ridge High School\, 1555 Old Peachtree Rd\, Suwanee\, GA\, 30024\, United States
END:VEVENT
BEGIN:VEVENT
DTSTART;TZID=America/New_York:20171028T110000
DTEND;TZID=America/New_York:20171028T130000
DTSTAMP:20260423T133944
CREATED:20171020T191833Z
LAST-MODIFIED:20171020T191833Z
UID:506-1509188400-1509195600@hansustaekwondo.com
SUMMARY:NO CLASSES  Sat. Oct. 28\, 2017  HALLOWEEN PARTY @ Han's
DESCRIPTION:Bring family and friends!  This is a fun family event! \nWe are asking for donations of FOOD\, drinks\, and prizes (gift cards\, gift baskets\, etc). \nBring candy to hand out during the “Trunk or Treat”. \nAfter the Halloween Party\, stop by our table at Blakeney Shopping Center’s Trick or Treat Street!  1:00 pm – 4:00 pm
URL:http://hansustaekwondo.com/event/no-classes-sat-oct-28-2017-halloween-party-hans/
END:VEVENT
BEGIN:VEVENT
DTSTART;TZID=America/New_York:20171021T100000
DTEND;TZID=America/New_York:20171021T130000
DTSTAMP:20260423T133944
CREATED:20171020T191238Z
LAST-MODIFIED:20171020T191238Z
UID:503-1508580000-1508590800@hansustaekwondo.com
SUMMARY:NO CLASSES Sat. Oct. 21\, 2017  Color Belt Testing
DESCRIPTION:
URL:http://hansustaekwondo.com/event/no-classes-sat-oct-21-2017-color-belt-testing/
END:VEVENT
BEGIN:VEVENT
DTSTART;TZID=America/New_York:20170727T163000
DTEND;TZID=America/New_York:20170727T190000
DTSTAMP:20260423T133944
CREATED:20170724T210342Z
LAST-MODIFIED:20170724T210342Z
UID:488-1501173000-1501182000@hansustaekwondo.com
SUMMARY:Color Belt Testing
DESCRIPTION:NO REGULAR CLASSES due to color belt testing. \nThis is for students who have received and turned in their testing forms and fees. \nTesting Group #1:  4:30 pm \nPlease wear full uniform. \nArrive 10 – 15 minutes before testing time. \nBring family and friends. \nGood luck!
URL:http://hansustaekwondo.com/event/color-belt-testing-2/
LOCATION:Han’s US Tae Kwon Do\, 6225 Blakeney Park Drive\, Charlotte\, NC\, 28277\, United States
END:VEVENT
BEGIN:VEVENT
DTSTART;VALUE=DATE:20170722
DTEND;VALUE=DATE:20170723
DTSTAMP:20260423T133944
CREATED:20170519T202013Z
LAST-MODIFIED:20170519T202013Z
UID:474-1500681600-1500767999@hansustaekwondo.com
SUMMARY:Yong In University Presidential Cup Tae Kwon Do Championship
DESCRIPTION:Tournament events:  Poomsae\, Board Breaking\, Sparring. \nEveryone is encouraged to participate! \nFor more information\, speak with Master Lee or stop by the front desk. \n 
URL:http://hansustaekwondo.com/event/yong-university-presidential-cup-tae-kwon-championship/
LOCATION:Greensboro Coliseum\, 1921 W. Gate City Blvd.\, Greensboro\, North Carolina\, 27403\, United States
END:VEVENT
BEGIN:VEVENT
DTSTART;VALUE=DATE:20170703
DTEND;VALUE=DATE:20170708
DTSTAMP:20260423T133944
CREATED:20170509T231018Z
LAST-MODIFIED:20170519T200846Z
UID:457-1499040000-1499471999@hansustaekwondo.com
SUMMARY:Closed
DESCRIPTION:
URL:http://hansustaekwondo.com/event/closed/
LOCATION:Han’s US Tae Kwon Do\, 6225 Blakeney Park Drive\, Charlotte\, NC\, 28277\, United States
END:VEVENT
BEGIN:VEVENT
DTSTART;TZID=America/New_York:20170622T163000
DTEND;TZID=America/New_York:20170622T183000
DTSTAMP:20260423T133944
CREATED:20170519T201437Z
LAST-MODIFIED:20170619T120906Z
UID:471-1498149000-1498156200@hansustaekwondo.com
SUMMARY:Color Belt Testing
DESCRIPTION:NO REGULAR CLASSES due to color belt testing. \nThis is for students who have received and turned in their testing forms and fees. \nPlease wear full uniform. \nArrive 10 – 15 minutes before testing time. \nBring family and friends. \nGood luck!
URL:http://hansustaekwondo.com/event/color-belt-testing/
LOCATION:Han’s US Tae Kwon Do\, 6225 Blakeney Park Drive\, Charlotte\, NC\, 28277\, United States
END:VEVENT
BEGIN:VEVENT
DTSTART;VALUE=DATE:20170612
DTEND;VALUE=DATE:20170613
DTSTAMP:20260423T133944
CREATED:20170509T230945Z
LAST-MODIFIED:20170509T230945Z
UID:455-1497225600-1497311999@hansustaekwondo.com
SUMMARY:Summer Camps Start
DESCRIPTION:
URL:http://hansustaekwondo.com/event/summer-camps-start-2/
END:VEVENT
BEGIN:VEVENT
DTSTART;VALUE=DATE:20170612
DTEND;VALUE=DATE:20170613
DTSTAMP:20260423T133944
CREATED:20170509T230709Z
LAST-MODIFIED:20170509T230806Z
UID:451-1497225600-1497311999@hansustaekwondo.com
SUMMARY:Summer Schedule Starts
DESCRIPTION:
URL:http://hansustaekwondo.com/event/summer-camps-start/
END:VEVENT
BEGIN:VEVENT
DTSTART;VALUE=DATE:20170529
DTEND;VALUE=DATE:20170530
DTSTAMP:20260423T133944
CREATED:20170509T230528Z
LAST-MODIFIED:20170509T230528Z
UID:448-1496016000-1496102399@hansustaekwondo.com
SUMMARY:Closed for Memorial Day
DESCRIPTION:
URL:http://hansustaekwondo.com/event/closed-memorial-day/
LOCATION:Han’s US Tae Kwon Do\, 6225 Blakeney Park Drive\, Charlotte\, NC\, 28277\, United States
END:VEVENT
END:VCALENDAR