BEGIN:VCALENDAR
VERSION:2.0
PRODID:-//Han&#039;s US Tae Kwon Do Center - ECPv6.13.2.1//NONSGML v1.0//EN
CALSCALE:GREGORIAN
METHOD:PUBLISH
X-ORIGINAL-URL:http://hansustaekwondo.com
X-WR-CALDESC:Events for Han&#039;s US Tae Kwon Do Center
REFRESH-INTERVAL;VALUE=DURATION:PT1H
X-Robots-Tag:noindex
X-PUBLISHED-TTL:PT1H
BEGIN:VTIMEZONE
TZID:America/New_York
BEGIN:DAYLIGHT
TZOFFSETFROM:-0500
TZOFFSETTO:-0400
TZNAME:EDT
DTSTART:20170312T070000
END:DAYLIGHT
BEGIN:STANDARD
TZOFFSETFROM:-0400
TZOFFSETTO:-0500
TZNAME:EST
DTSTART:20171105T060000
END:STANDARD
END:VTIMEZONE
BEGIN:VEVENT
DTSTART;TZID=America/New_York:20170520T130000
DTEND;TZID=America/New_York:20170520T150000
DTSTAMP:20260423T150903
CREATED:20170509T213242Z
LAST-MODIFIED:20170509T230152Z
UID:440-1495285200-1495292400@hansustaekwondo.com
SUMMARY:Black Belt Testing
DESCRIPTION:
URL:http://hansustaekwondo.com/event/black-belt-may-20-2017/
LOCATION:Southern Korean Presbyterian Church\, 3619 McKee Road\, Charlotte\, NC\, 28270\, United States
END:VEVENT
END:VCALENDAR